<?xml version="1.0" encoding="UTF-8"?>
<TileMap version="1.0.0" tilemapservice="http://address.gazar.gov.mn/geoserver/gwc/service/tms/1.0.0">
  <Title>khuvsgul</Title>
  <Abstract/>
  <SRS>EPSG:4326</SRS>
  <BoundingBox minx="100.546875" miny="51.328125" maxx="101.25" maxy="52.03125"/>
  <Origin x="100.546875" y="51.328125"/>
  <TileFormat width="256" height="256" mime-type="image/png" extension="png8"/>
  <TileSets profile="local">
    <TileSet href="http://address.gazar.gov.mn/geoserver/gwc/service/tms/1.0.0/mon_test%3Akhuvsgul@EPSG%3A4326@png8/0" units-per-pixel="0.703125" order="0"/>
    <TileSet href="http://address.gazar.gov.mn/geoserver/gwc/service/tms/1.0.0/mon_test%3Akhuvsgul@EPSG%3A4326@png8/1" units-per-pixel="0.3515625" order="1"/>
    <TileSet href="http://address.gazar.gov.mn/geoserver/gwc/service/tms/1.0.0/mon_test%3Akhuvsgul@EPSG%3A4326@png8/2" units-per-pixel="0.17578125" order="2"/>
    <TileSet href="http://address.gazar.gov.mn/geoserver/gwc/service/tms/1.0.0/mon_test%3Akhuvsgul@EPSG%3A4326@png8/3" units-per-pixel="0.087890625" order="3"/>
    <TileSet href="http://address.gazar.gov.mn/geoserver/gwc/service/tms/1.0.0/mon_test%3Akhuvsgul@EPSG%3A4326@png8/4" units-per-pixel="0.0439453125" order="4"/>
    <TileSet href="http://address.gazar.gov.mn/geoserver/gwc/service/tms/1.0.0/mon_test%3Akhuvsgul@EPSG%3A4326@png8/5" units-per-pixel="0.02197265625" order="5"/>
    <TileSet href="http://address.gazar.gov.mn/geoserver/gwc/service/tms/1.0.0/mon_test%3Akhuvsgul@EPSG%3A4326@png8/6" units-per-pixel="0.010986328125" order="6"/>
    <TileSet href="http://address.gazar.gov.mn/geoserver/gwc/service/tms/1.0.0/mon_test%3Akhuvsgul@EPSG%3A4326@png8/7" units-per-pixel="0.0054931640625" order="7"/>
    <TileSet href="http://address.gazar.gov.mn/geoserver/gwc/service/tms/1.0.0/mon_test%3Akhuvsgul@EPSG%3A4326@png8/8" units-per-pixel="0.00274658203125" order="8"/>
    <TileSet href="http://address.gazar.gov.mn/geoserver/gwc/service/tms/1.0.0/mon_test%3Akhuvsgul@EPSG%3A4326@png8/9" units-per-pixel="0.001373291015625" order="9"/>
    <TileSet href="http://address.gazar.gov.mn/geoserver/gwc/service/tms/1.0.0/mon_test%3Akhuvsgul@EPSG%3A4326@png8/10" units-per-pixel="6.866455078125E-4" order="10"/>
    <TileSet href="http://address.gazar.gov.mn/geoserver/gwc/service/tms/1.0.0/mon_test%3Akhuvsgul@EPSG%3A4326@png8/11" units-per-pixel="3.4332275390625E-4" order="11"/>
    <TileSet href="http://address.gazar.gov.mn/geoserver/gwc/service/tms/1.0.0/mon_test%3Akhuvsgul@EPSG%3A4326@png8/12" units-per-pixel="1.71661376953125E-4" order="12"/>
    <TileSet href="http://address.gazar.gov.mn/geoserver/gwc/service/tms/1.0.0/mon_test%3Akhuvsgul@EPSG%3A4326@png8/13" units-per-pixel="8.58306884765625E-5" order="13"/>
    <TileSet href="http://address.gazar.gov.mn/geoserver/gwc/service/tms/1.0.0/mon_test%3Akhuvsgul@EPSG%3A4326@png8/14" units-per-pixel="4.291534423828125E-5" order="14"/>
    <TileSet href="http://address.gazar.gov.mn/geoserver/gwc/service/tms/1.0.0/mon_test%3Akhuvsgul@EPSG%3A4326@png8/15" units-per-pixel="2.1457672119140625E-5" order="15"/>
    <TileSet href="http://address.gazar.gov.mn/geoserver/gwc/service/tms/1.0.0/mon_test%3Akhuvsgul@EPSG%3A4326@png8/16" units-per-pixel="1.0728836059570312E-5" order="16"/>
    <TileSet href="http://address.gazar.gov.mn/geoserver/gwc/service/tms/1.0.0/mon_test%3Akhuvsgul@EPSG%3A4326@png8/17" units-per-pixel="5.364418029785156E-6" order="17"/>
    <TileSet href="http://address.gazar.gov.mn/geoserver/gwc/service/tms/1.0.0/mon_test%3Akhuvsgul@EPSG%3A4326@png8/18" units-per-pixel="2.682209014892578E-6" order="18"/>
    <TileSet href="http://address.gazar.gov.mn/geoserver/gwc/service/tms/1.0.0/mon_test%3Akhuvsgul@EPSG%3A4326@png8/19" units-per-pixel="1.341104507446289E-6" order="19"/>
    <TileSet href="http://address.gazar.gov.mn/geoserver/gwc/service/tms/1.0.0/mon_test%3Akhuvsgul@EPSG%3A4326@png8/20" units-per-pixel="6.705522537231445E-7" order="20"/>
    <TileSet href="http://address.gazar.gov.mn/geoserver/gwc/service/tms/1.0.0/mon_test%3Akhuvsgul@EPSG%3A4326@png8/21" units-per-pixel="3.3527612686157227E-7" order="21"/>
  </TileSets>
</TileMap>